BEGIN:VCALENDAR
VERSION:2.0
PRODID:-//Swift Current Curling Club - ECPv6.15.20//NONSGML v1.0//EN
CALSCALE:GREGORIAN
METHOD:PUBLISH
X-ORIGINAL-URL:https://www.sccurlingclub.ca
X-WR-CALDESC:Events for Swift Current Curling Club
REFRESH-INTERVAL;VALUE=DURATION:PT1H
X-Robots-Tag:noindex
X-PUBLISHED-TTL:PT1H
BEGIN:VTIMEZONE
TZID:America/New_York
BEGIN:DAYLIGHT
TZOFFSETFROM:-0500
TZOFFSETTO:-0400
TZNAME:EDT
DTSTART:19690427T070000
END:DAYLIGHT
BEGIN:STANDARD
TZOFFSETFROM:-0400
TZOFFSETTO:-0500
TZNAME:EST
DTSTART:19691026T060000
END:STANDARD
BEGIN:DAYLIGHT
TZOFFSETFROM:-0500
TZOFFSETTO:-0400
TZNAME:EDT
DTSTART:19700426T070000
END:DAYLIGHT
BEGIN:STANDARD
TZOFFSETFROM:-0400
TZOFFSETTO:-0500
TZNAME:EST
DTSTART:19701025T060000
END:STANDARD
BEGIN:DAYLIGHT
TZOFFSETFROM:-0500
TZOFFSETTO:-0400
TZNAME:EDT
DTSTART:19710425T070000
END:DAYLIGHT
BEGIN:STANDARD
TZOFFSETFROM:-0400
TZOFFSETTO:-0500
TZNAME:EST
DTSTART:19711031T060000
END:STANDARD
BEGIN:DAYLIGHT
TZOFFSETFROM:-0500
TZOFFSETTO:-0400
TZNAME:EDT
DTSTART:19720430T070000
END:DAYLIGHT
BEGIN:STANDARD
TZOFFSETFROM:-0400
TZOFFSETTO:-0500
TZNAME:EST
DTSTART:19721029T060000
END:STANDARD
BEGIN:DAYLIGHT
TZOFFSETFROM:-0500
TZOFFSETTO:-0400
TZNAME:EDT
DTSTART:19730429T070000
END:DAYLIGHT
BEGIN:STANDARD
TZOFFSETFROM:-0400
TZOFFSETTO:-0500
TZNAME:EST
DTSTART:19731028T060000
END:STANDARD
BEGIN:DAYLIGHT
TZOFFSETFROM:-0500
TZOFFSETTO:-0400
TZNAME:EDT
DTSTART:19740106T070000
END:DAYLIGHT
BEGIN:STANDARD
TZOFFSETFROM:-0400
TZOFFSETTO:-0500
TZNAME:EST
DTSTART:19741027T060000
END:STANDARD
BEGIN:DAYLIGHT
TZOFFSETFROM:-0500
TZOFFSETTO:-0400
TZNAME:EDT
DTSTART:19750223T070000
END:DAYLIGHT
BEGIN:STANDARD
TZOFFSETFROM:-0400
TZOFFSETTO:-0500
TZNAME:EST
DTSTART:19751026T060000
END:STANDARD
BEGIN:DAYLIGHT
TZOFFSETFROM:-0500
TZOFFSETTO:-0400
TZNAME:EDT
DTSTART:19760425T070000
END:DAYLIGHT
BEGIN:STANDARD
TZOFFSETFROM:-0400
TZOFFSETTO:-0500
TZNAME:EST
DTSTART:19761031T060000
END:STANDARD
BEGIN:DAYLIGHT
TZOFFSETFROM:-0500
TZOFFSETTO:-0400
TZNAME:EDT
DTSTART:19770424T070000
END:DAYLIGHT
BEGIN:STANDARD
TZOFFSETFROM:-0400
TZOFFSETTO:-0500
TZNAME:EST
DTSTART:19771030T060000
END:STANDARD
BEGIN:DAYLIGHT
TZOFFSETFROM:-0500
TZOFFSETTO:-0400
TZNAME:EDT
DTSTART:19780430T070000
END:DAYLIGHT
BEGIN:STANDARD
TZOFFSETFROM:-0400
TZOFFSETTO:-0500
TZNAME:EST
DTSTART:19781029T060000
END:STANDARD
BEGIN:DAYLIGHT
TZOFFSETFROM:-0500
TZOFFSETTO:-0400
TZNAME:EDT
DTSTART:19790429T070000
END:DAYLIGHT
BEGIN:STANDARD
TZOFFSETFROM:-0400
TZOFFSETTO:-0500
TZNAME:EST
DTSTART:19791028T060000
END:STANDARD
BEGIN:DAYLIGHT
TZOFFSETFROM:-0500
TZOFFSETTO:-0400
TZNAME:EDT
DTSTART:19800427T070000
END:DAYLIGHT
BEGIN:STANDARD
TZOFFSETFROM:-0400
TZOFFSETTO:-0500
TZNAME:EST
DTSTART:19801026T060000
END:STANDARD
BEGIN:DAYLIGHT
TZOFFSETFROM:-0500
TZOFFSETTO:-0400
TZNAME:EDT
DTSTART:19810426T070000
END:DAYLIGHT
BEGIN:STANDARD
TZOFFSETFROM:-0400
TZOFFSETTO:-0500
TZNAME:EST
DTSTART:19811025T060000
END:STANDARD
BEGIN:DAYLIGHT
TZOFFSETFROM:-0500
TZOFFSETTO:-0400
TZNAME:EDT
DTSTART:19820425T070000
END:DAYLIGHT
BEGIN:STANDARD
TZOFFSETFROM:-0400
TZOFFSETTO:-0500
TZNAME:EST
DTSTART:19821031T060000
END:STANDARD
BEGIN:DAYLIGHT
TZOFFSETFROM:-0500
TZOFFSETTO:-0400
TZNAME:EDT
DTSTART:19830424T070000
END:DAYLIGHT
BEGIN:STANDARD
TZOFFSETFROM:-0400
TZOFFSETTO:-0500
TZNAME:EST
DTSTART:19831030T060000
END:STANDARD
BEGIN:DAYLIGHT
TZOFFSETFROM:-0500
TZOFFSETTO:-0400
TZNAME:EDT
DTSTART:19840429T070000
END:DAYLIGHT
BEGIN:STANDARD
TZOFFSETFROM:-0400
TZOFFSETTO:-0500
TZNAME:EST
DTSTART:19841028T060000
END:STANDARD
BEGIN:DAYLIGHT
TZOFFSETFROM:-0500
TZOFFSETTO:-0400
TZNAME:EDT
DTSTART:19850428T070000
END:DAYLIGHT
BEGIN:STANDARD
TZOFFSETFROM:-0400
TZOFFSETTO:-0500
TZNAME:EST
DTSTART:19851027T060000
END:STANDARD
BEGIN:DAYLIGHT
TZOFFSETFROM:-0500
TZOFFSETTO:-0400
TZNAME:EDT
DTSTART:19860427T070000
END:DAYLIGHT
BEGIN:STANDARD
TZOFFSETFROM:-0400
TZOFFSETTO:-0500
TZNAME:EST
DTSTART:19861026T060000
END:STANDARD
BEGIN:DAYLIGHT
TZOFFSETFROM:-0500
TZOFFSETTO:-0400
TZNAME:EDT
DTSTART:19870405T070000
END:DAYLIGHT
BEGIN:STANDARD
TZOFFSETFROM:-0400
TZOFFSETTO:-0500
TZNAME:EST
DTSTART:19871025T060000
END:STANDARD
BEGIN:DAYLIGHT
TZOFFSETFROM:-0500
TZOFFSETTO:-0400
TZNAME:EDT
DTSTART:19880403T070000
END:DAYLIGHT
BEGIN:STANDARD
TZOFFSETFROM:-0400
TZOFFSETTO:-0500
TZNAME:EST
DTSTART:19881030T060000
END:STANDARD
BEGIN:DAYLIGHT
TZOFFSETFROM:-0500
TZOFFSETTO:-0400
TZNAME:EDT
DTSTART:19890402T070000
END:DAYLIGHT
BEGIN:STANDARD
TZOFFSETFROM:-0400
TZOFFSETTO:-0500
TZNAME:EST
DTSTART:19891029T060000
END:STANDARD
BEGIN:DAYLIGHT
TZOFFSETFROM:-0500
TZOFFSETTO:-0400
TZNAME:EDT
DTSTART:19900401T070000
END:DAYLIGHT
BEGIN:STANDARD
TZOFFSETFROM:-0400
TZOFFSETTO:-0500
TZNAME:EST
DTSTART:19901028T060000
END:STANDARD
BEGIN:DAYLIGHT
TZOFFSETFROM:-0500
TZOFFSETTO:-0400
TZNAME:EDT
DTSTART:19910407T070000
END:DAYLIGHT
BEGIN:STANDARD
TZOFFSETFROM:-0400
TZOFFSETTO:-0500
TZNAME:EST
DTSTART:19911027T060000
END:STANDARD
BEGIN:DAYLIGHT
TZOFFSETFROM:-0500
TZOFFSETTO:-0400
TZNAME:EDT
DTSTART:19920405T070000
END:DAYLIGHT
BEGIN:STANDARD
TZOFFSETFROM:-0400
TZOFFSETTO:-0500
TZNAME:EST
DTSTART:19921025T060000
END:STANDARD
BEGIN:DAYLIGHT
TZOFFSETFROM:-0500
TZOFFSETTO:-0400
TZNAME:EDT
DTSTART:19930404T070000
END:DAYLIGHT
BEGIN:STANDARD
TZOFFSETFROM:-0400
TZOFFSETTO:-0500
TZNAME:EST
DTSTART:19931031T060000
END:STANDARD
BEGIN:DAYLIGHT
TZOFFSETFROM:-0500
TZOFFSETTO:-0400
TZNAME:EDT
DTSTART:19940403T070000
END:DAYLIGHT
BEGIN:STANDARD
TZOFFSETFROM:-0400
TZOFFSETTO:-0500
TZNAME:EST
DTSTART:19941030T060000
END:STANDARD
BEGIN:DAYLIGHT
TZOFFSETFROM:-0500
TZOFFSETTO:-0400
TZNAME:EDT
DTSTART:19950402T070000
END:DAYLIGHT
BEGIN:STANDARD
TZOFFSETFROM:-0400
TZOFFSETTO:-0500
TZNAME:EST
DTSTART:19951029T060000
END:STANDARD
BEGIN:DAYLIGHT
TZOFFSETFROM:-0500
TZOFFSETTO:-0400
TZNAME:EDT
DTSTART:19960407T070000
END:DAYLIGHT
BEGIN:STANDARD
TZOFFSETFROM:-0400
TZOFFSETTO:-0500
TZNAME:EST
DTSTART:19961027T060000
END:STANDARD
BEGIN:DAYLIGHT
TZOFFSETFROM:-0500
TZOFFSETTO:-0400
TZNAME:EDT
DTSTART:19970406T070000
END:DAYLIGHT
BEGIN:STANDARD
TZOFFSETFROM:-0400
TZOFFSETTO:-0500
TZNAME:EST
DTSTART:19971026T060000
END:STANDARD
BEGIN:DAYLIGHT
TZOFFSETFROM:-0500
TZOFFSETTO:-0400
TZNAME:EDT
DTSTART:19980405T070000
END:DAYLIGHT
BEGIN:STANDARD
TZOFFSETFROM:-0400
TZOFFSETTO:-0500
TZNAME:EST
DTSTART:19981025T060000
END:STANDARD
BEGIN:DAYLIGHT
TZOFFSETFROM:-0500
TZOFFSETTO:-0400
TZNAME:EDT
DTSTART:19990404T070000
END:DAYLIGHT
BEGIN:STANDARD
TZOFFSETFROM:-0400
TZOFFSETTO:-0500
TZNAME:EST
DTSTART:19991031T060000
END:STANDARD
BEGIN:DAYLIGHT
TZOFFSETFROM:-0500
TZOFFSETTO:-0400
TZNAME:EDT
DTSTART:20000402T070000
END:DAYLIGHT
BEGIN:STANDARD
TZOFFSETFROM:-0400
TZOFFSETTO:-0500
TZNAME:EST
DTSTART:20001029T060000
END:STANDARD
BEGIN:DAYLIGHT
TZOFFSETFROM:-0500
TZOFFSETTO:-0400
TZNAME:EDT
DTSTART:20010401T070000
END:DAYLIGHT
BEGIN:STANDARD
TZOFFSETFROM:-0400
TZOFFSETTO:-0500
TZNAME:EST
DTSTART:20011028T060000
END:STANDARD
BEGIN:DAYLIGHT
TZOFFSETFROM:-0500
TZOFFSETTO:-0400
TZNAME:EDT
DTSTART:20020407T070000
END:DAYLIGHT
BEGIN:STANDARD
TZOFFSETFROM:-0400
TZOFFSETTO:-0500
TZNAME:EST
DTSTART:20021027T060000
END:STANDARD
BEGIN:DAYLIGHT
TZOFFSETFROM:-0500
TZOFFSETTO:-0400
TZNAME:EDT
DTSTART:20030406T070000
END:DAYLIGHT
BEGIN:STANDARD
TZOFFSETFROM:-0400
TZOFFSETTO:-0500
TZNAME:EST
DTSTART:20031026T060000
END:STANDARD
BEGIN:DAYLIGHT
TZOFFSETFROM:-0500
TZOFFSETTO:-0400
TZNAME:EDT
DTSTART:20040404T070000
END:DAYLIGHT
BEGIN:STANDARD
TZOFFSETFROM:-0400
TZOFFSETTO:-0500
TZNAME:EST
DTSTART:20041031T060000
END:STANDARD
BEGIN:DAYLIGHT
TZOFFSETFROM:-0500
TZOFFSETTO:-0400
TZNAME:EDT
DTSTART:20050403T070000
END:DAYLIGHT
BEGIN:STANDARD
TZOFFSETFROM:-0400
TZOFFSETTO:-0500
TZNAME:EST
DTSTART:20051030T060000
END:STANDARD
BEGIN:DAYLIGHT
TZOFFSETFROM:-0500
TZOFFSETTO:-0400
TZNAME:EDT
DTSTART:20060402T070000
END:DAYLIGHT
BEGIN:STANDARD
TZOFFSETFROM:-0400
TZOFFSETTO:-0500
TZNAME:EST
DTSTART:20061029T060000
END:STANDARD
BEGIN:DAYLIGHT
TZOFFSETFROM:-0500
TZOFFSETTO:-0400
TZNAME:EDT
DTSTART:20070311T070000
END:DAYLIGHT
BEGIN:STANDARD
TZOFFSETFROM:-0400
TZOFFSETTO:-0500
TZNAME:EST
DTSTART:20071104T060000
END:STANDARD
BEGIN:DAYLIGHT
TZOFFSETFROM:-0500
TZOFFSETTO:-0400
TZNAME:EDT
DTSTART:20080309T070000
END:DAYLIGHT
BEGIN:STANDARD
TZOFFSETFROM:-0400
TZOFFSETTO:-0500
TZNAME:EST
DTSTART:20081102T060000
END:STANDARD
BEGIN:DAYLIGHT
TZOFFSETFROM:-0500
TZOFFSETTO:-0400
TZNAME:EDT
DTSTART:20090308T070000
END:DAYLIGHT
BEGIN:STANDARD
TZOFFSETFROM:-0400
TZOFFSETTO:-0500
TZNAME:EST
DTSTART:20091101T060000
END:STANDARD
BEGIN:DAYLIGHT
TZOFFSETFROM:-0500
TZOFFSETTO:-0400
TZNAME:EDT
DTSTART:20100314T070000
END:DAYLIGHT
BEGIN:STANDARD
TZOFFSETFROM:-0400
TZOFFSETTO:-0500
TZNAME:EST
DTSTART:20101107T060000
END:STANDARD
BEGIN:DAYLIGHT
TZOFFSETFROM:-0500
TZOFFSETTO:-0400
TZNAME:EDT
DTSTART:20110313T070000
END:DAYLIGHT
BEGIN:STANDARD
TZOFFSETFROM:-0400
TZOFFSETTO:-0500
TZNAME:EST
DTSTART:20111106T060000
END:STANDARD
BEGIN:DAYLIGHT
TZOFFSETFROM:-0500
TZOFFSETTO:-0400
TZNAME:EDT
DTSTART:20120311T070000
END:DAYLIGHT
BEGIN:STANDARD
TZOFFSETFROM:-0400
TZOFFSETTO:-0500
TZNAME:EST
DTSTART:20121104T060000
END:STANDARD
BEGIN:DAYLIGHT
TZOFFSETFROM:-0500
TZOFFSETTO:-0400
TZNAME:EDT
DTSTART:20130310T070000
END:DAYLIGHT
BEGIN:STANDARD
TZOFFSETFROM:-0400
TZOFFSETTO:-0500
TZNAME:EST
DTSTART:20131103T060000
END:STANDARD
BEGIN:DAYLIGHT
TZOFFSETFROM:-0500
TZOFFSETTO:-0400
TZNAME:EDT
DTSTART:20140309T070000
END:DAYLIGHT
BEGIN:STANDARD
TZOFFSETFROM:-0400
TZOFFSETTO:-0500
TZNAME:EST
DTSTART:20141102T060000
END:STANDARD
BEGIN:DAYLIGHT
TZOFFSETFROM:-0500
TZOFFSETTO:-0400
TZNAME:EDT
DTSTART:20150308T070000
END:DAYLIGHT
BEGIN:STANDARD
TZOFFSETFROM:-0400
TZOFFSETTO:-0500
TZNAME:EST
DTSTART:20151101T060000
END:STANDARD
BEGIN:DAYLIGHT
TZOFFSETFROM:-0500
TZOFFSETTO:-0400
TZNAME:EDT
DTSTART:20160313T070000
END:DAYLIGHT
BEGIN:STANDARD
TZOFFSETFROM:-0400
TZOFFSETTO:-0500
TZNAME:EST
DTSTART:20161106T060000
END:STANDARD
BEGIN:DAYLIGHT
TZOFFSETFROM:-0500
TZOFFSETTO:-0400
TZNAME:EDT
DTSTART:20170312T070000
END:DAYLIGHT
BEGIN:STANDARD
TZOFFSETFROM:-0400
TZOFFSETTO:-0500
TZNAME:EST
DTSTART:20171105T060000
END:STANDARD
BEGIN:DAYLIGHT
TZOFFSETFROM:-0500
TZOFFSETTO:-0400
TZNAME:EDT
DTSTART:20180311T070000
END:DAYLIGHT
BEGIN:STANDARD
TZOFFSETFROM:-0400
TZOFFSETTO:-0500
TZNAME:EST
DTSTART:20181104T060000
END:STANDARD
BEGIN:DAYLIGHT
TZOFFSETFROM:-0500
TZOFFSETTO:-0400
TZNAME:EDT
DTSTART:20190310T070000
END:DAYLIGHT
BEGIN:STANDARD
TZOFFSETFROM:-0400
TZOFFSETTO:-0500
TZNAME:EST
DTSTART:20191103T060000
END:STANDARD
BEGIN:DAYLIGHT
TZOFFSETFROM:-0500
TZOFFSETTO:-0400
TZNAME:EDT
DTSTART:20200308T070000
END:DAYLIGHT
BEGIN:STANDARD
TZOFFSETFROM:-0400
TZOFFSETTO:-0500
TZNAME:EST
DTSTART:20201101T060000
END:STANDARD
BEGIN:DAYLIGHT
TZOFFSETFROM:-0500
TZOFFSETTO:-0400
TZNAME:EDT
DTSTART:20210314T070000
END:DAYLIGHT
BEGIN:STANDARD
TZOFFSETFROM:-0400
TZOFFSETTO:-0500
TZNAME:EST
DTSTART:20211107T060000
END:STANDARD
BEGIN:DAYLIGHT
TZOFFSETFROM:-0500
TZOFFSETTO:-0400
TZNAME:EDT
DTSTART:20220313T070000
END:DAYLIGHT
BEGIN:STANDARD
TZOFFSETFROM:-0400
TZOFFSETTO:-0500
TZNAME:EST
DTSTART:20221106T060000
END:STANDARD
BEGIN:DAYLIGHT
TZOFFSETFROM:-0500
TZOFFSETTO:-0400
TZNAME:EDT
DTSTART:20230312T070000
END:DAYLIGHT
BEGIN:STANDARD
TZOFFSETFROM:-0400
TZOFFSETTO:-0500
TZNAME:EST
DTSTART:20231105T060000
END:STANDARD
BEGIN:DAYLIGHT
TZOFFSETFROM:-0500
TZOFFSETTO:-0400
TZNAME:EDT
DTSTART:20240310T070000
END:DAYLIGHT
BEGIN:STANDARD
TZOFFSETFROM:-0400
TZOFFSETTO:-0500
TZNAME:EST
DTSTART:20241103T060000
END:STANDARD
BEGIN:DAYLIGHT
TZOFFSETFROM:-0500
TZOFFSETTO:-0400
TZNAME:EDT
DTSTART:20250309T070000
END:DAYLIGHT
BEGIN:STANDARD
TZOFFSETFROM:-0400
TZOFFSETTO:-0500
TZNAME:EST
DTSTART:20251102T060000
END:STANDARD
BEGIN:DAYLIGHT
TZOFFSETFROM:-0500
TZOFFSETTO:-0400
TZNAME:EDT
DTSTART:20260308T070000
END:DAYLIGHT
BEGIN:STANDARD
TZOFFSETFROM:-0400
TZOFFSETTO:-0500
TZNAME:EST
DTSTART:20261101T060000
END:STANDARD
BEGIN:DAYLIGHT
TZOFFSETFROM:-0500
TZOFFSETTO:-0400
TZNAME:EDT
DTSTART:20270314T070000
END:DAYLIGHT
BEGIN:STANDARD
TZOFFSETFROM:-0400
TZOFFSETTO:-0500
TZNAME:EST
DTSTART:20271107T060000
END:STANDARD
END:VTIMEZONE
BEGIN:VTIMEZONE
TZID:America/Regina
BEGIN:STANDARD
TZOFFSETFROM:-0600
TZOFFSETTO:-0600
TZNAME:CST
DTSTART:20210101T000000
END:STANDARD
END:VTIMEZONE
BEGIN:VEVENT
DTSTART;TZID=America/New_York:20260422T175542
DTEND;TZID=America/New_York:20260331T120000
DTSTAMP:20260422T175542
CREATED:20260205T175010Z
LAST-MODIFIED:20260205T175010Z
UID:2919-0-1774958400@www.sccurlingclub.ca
SUMMARY:Ice Removal
DESCRIPTION:
URL:https://www.sccurlingclub.ca/event/ice-removal-2/
LOCATION:Swift Current Curling Club
END:VEVENT
BEGIN:VEVENT
DTSTART;TZID=America/New_York:20220208T160000
DTEND;TZID=America/New_York:20220208T173000
DTSTAMP:20260422T175542
CREATED:20211208T162355Z
LAST-MODIFIED:20220201T150444Z
UID:409-1644336000-1644341400@www.sccurlingclub.ca
SUMMARY:High School
DESCRIPTION:
URL:https://www.sccurlingclub.ca/event/high-school/
LOCATION:Swift Current Curling Club
END:VEVENT
BEGIN:VEVENT
DTSTART;TZID=America/New_York:20220208T190000
DTEND;TZID=America/New_York:20220208T190000
DTSTAMP:20260422T175542
CREATED:20211209T003543Z
LAST-MODIFIED:20220201T155540Z
UID:455-1644346800-1644346800@www.sccurlingclub.ca
SUMMARY:Men's League
DESCRIPTION:
URL:https://www.sccurlingclub.ca/event/tuesday-mens-league-2/
LOCATION:Swift Current Curling Club
END:VEVENT
BEGIN:VEVENT
DTSTART;TZID=America/New_York:20220209T130000
DTEND;TZID=America/New_York:20220209T150000
DTSTAMP:20260422T175542
CREATED:20211208T161248Z
LAST-MODIFIED:20220201T160132Z
UID:394-1644411600-1644418800@www.sccurlingclub.ca
SUMMARY:Drop-In
DESCRIPTION:Curling 1pm – 3pm
URL:https://www.sccurlingclub.ca/event/afternoon-drop-in/
LOCATION:Swift Current Curling Club
END:VEVENT
BEGIN:VEVENT
DTSTART;TZID=America/New_York:20220209T160000
DTEND;TZID=America/New_York:20220209T173000
DTSTAMP:20260422T175542
CREATED:20211209T003809Z
LAST-MODIFIED:20220201T160827Z
UID:459-1644422400-1644427800@www.sccurlingclub.ca
SUMMARY:Swift Sliders
DESCRIPTION:
URL:https://www.sccurlingclub.ca/event/swift-sliders-3/
LOCATION:Swift Current Curling Club
END:VEVENT
BEGIN:VEVENT
DTSTART;TZID=America/New_York:20220209T160000
DTEND;TZID=America/New_York:20220209T173000
DTSTAMP:20260422T175542
CREATED:20211216T161812Z
LAST-MODIFIED:20220201T160524Z
UID:487-1644422400-1644427800@www.sccurlingclub.ca
SUMMARY:Success
DESCRIPTION:
URL:https://www.sccurlingclub.ca/event/success/
END:VEVENT
BEGIN:VEVENT
DTSTART;TZID=America/New_York:20220209T190000
DTEND;TZID=America/New_York:20220209T190000
DTSTAMP:20260422T175542
CREATED:20211208T161714Z
LAST-MODIFIED:20220201T161011Z
UID:398-1644433200-1644433200@www.sccurlingclub.ca
SUMMARY:Open League
DESCRIPTION:
URL:https://www.sccurlingclub.ca/event/wednesday-open-league/
LOCATION:Swift Current Curling Club
END:VEVENT
BEGIN:VEVENT
DTSTART;TZID=America/New_York:20220210T130000
DTEND;TZID=America/New_York:20220210T150000
DTSTAMP:20260422T175542
CREATED:20211209T002327Z
LAST-MODIFIED:20220201T161512Z
UID:439-1644498000-1644505200@www.sccurlingclub.ca
SUMMARY:Afternoon League
DESCRIPTION:
URL:https://www.sccurlingclub.ca/event/thursday-afternoon-league-2/
END:VEVENT
BEGIN:VEVENT
DTSTART;TZID=America/New_York:20220210T160000
DTEND;TZID=America/New_York:20220210T173000
DTSTAMP:20260422T175542
CREATED:20211209T002058Z
LAST-MODIFIED:20220201T162549Z
UID:435-1644508800-1644514200@www.sccurlingclub.ca
SUMMARY:Schools
DESCRIPTION:
URL:https://www.sccurlingclub.ca/event/schools-2/
END:VEVENT
BEGIN:VEVENT
DTSTART;TZID=America/New_York:20220210T190000
DTEND;TZID=America/New_York:20220210T190000
DTSTAMP:20260422T175542
CREATED:20211209T002952Z
LAST-MODIFIED:20220201T181054Z
UID:443-1644519600-1644519600@www.sccurlingclub.ca
SUMMARY:Super League
DESCRIPTION:
URL:https://www.sccurlingclub.ca/event/thursday-super-league/
LOCATION:Swift Current Curling Club
END:VEVENT
BEGIN:VEVENT
DTSTART;VALUE=DATE:20220211
DTEND;VALUE=DATE:20220214
DTSTAMP:20260422T175542
CREATED:20211105T203955Z
LAST-MODIFIED:20211105T203955Z
UID:306-1644537600-1644796799@www.sccurlingclub.ca
SUMMARY:Cattleman’s / Oilmen’s Bonspiel
DESCRIPTION:
URL:https://www.sccurlingclub.ca/event/cattlemans-oilmens-bonspiel/
END:VEVENT
BEGIN:VEVENT
DTSTART;TZID=America/New_York:20220213T140000
DTEND;TZID=America/New_York:20220213T150000
DTSTAMP:20260422T175542
CREATED:20211208T165315Z
LAST-MODIFIED:20220201T150744Z
UID:415-1644760800-1644764400@www.sccurlingclub.ca
SUMMARY:Sunday Junior Curling Program
DESCRIPTION:
URL:https://www.sccurlingclub.ca/event/sunday-junior-curling-progran/
LOCATION:Swift Current Curling Club
END:VEVENT
BEGIN:VEVENT
DTSTART;TZID=America/New_York:20220213T153000
DTEND;TZID=America/New_York:20220213T170000
DTSTAMP:20260422T175542
CREATED:20211209T003344Z
LAST-MODIFIED:20220201T151126Z
UID:449-1644766200-1644771600@www.sccurlingclub.ca
SUMMARY:Sask Abilities
DESCRIPTION:
URL:https://www.sccurlingclub.ca/event/sask-abilities-2/
LOCATION:Swift Current Curling Club
END:VEVENT
BEGIN:VEVENT
DTSTART;TZID=America/New_York:20220214T130000
DTEND;TZID=America/New_York:20220214T150000
DTSTAMP:20260422T175542
CREATED:20211208T172405Z
LAST-MODIFIED:20220201T151350Z
UID:430-1644843600-1644850800@www.sccurlingclub.ca
SUMMARY:Afternoon League
DESCRIPTION:
URL:https://www.sccurlingclub.ca/event/afternoon-drop-in-league/
LOCATION:Swift Current Curling Club
END:VEVENT
BEGIN:VEVENT
DTSTART;TZID=America/New_York:20220215T160000
DTEND;TZID=America/New_York:20220215T173000
DTSTAMP:20260422T175542
CREATED:20211208T172043Z
LAST-MODIFIED:20220201T150516Z
UID:426-1644940800-1644946200@www.sccurlingclub.ca
SUMMARY:High School
DESCRIPTION:
URL:https://www.sccurlingclub.ca/event/high-school-2/
LOCATION:Swift Current Curling Club
END:VEVENT
BEGIN:VEVENT
DTSTART;TZID=America/New_York:20220215T190000
DTEND;TZID=America/New_York:20220215T190000
DTSTAMP:20260422T175542
CREATED:20211208T162028Z
LAST-MODIFIED:20220201T155735Z
UID:405-1644951600-1644951600@www.sccurlingclub.ca
SUMMARY:Men's League
DESCRIPTION:
URL:https://www.sccurlingclub.ca/event/tuesday-mens-league/
END:VEVENT
BEGIN:VEVENT
DTSTART;TZID=America/New_York:20220216T130000
DTEND;TZID=America/New_York:20220216T150000
DTSTAMP:20260422T175542
CREATED:20211209T003703Z
LAST-MODIFIED:20220201T160327Z
UID:457-1645016400-1645023600@www.sccurlingclub.ca
SUMMARY:Drop-In
DESCRIPTION:
URL:https://www.sccurlingclub.ca/event/afternoon-drop-in-curling/
LOCATION:Swift Current Curling Club
END:VEVENT
BEGIN:VEVENT
DTSTART;TZID=America/New_York:20220216T160000
DTEND;TZID=America/New_York:20220216T173000
DTSTAMP:20260422T175542
CREATED:20211208T194728Z
LAST-MODIFIED:20220201T160903Z
UID:432-1645027200-1645032600@www.sccurlingclub.ca
SUMMARY:Swift Sliders
DESCRIPTION:
URL:https://www.sccurlingclub.ca/event/swift-sliders-2/
LOCATION:Swift Current Curling Club
END:VEVENT
BEGIN:VEVENT
DTSTART;TZID=America/New_York:20220216T160000
DTEND;TZID=America/New_York:20220216T173000
DTSTAMP:20260422T175542
CREATED:20211216T170904Z
LAST-MODIFIED:20220201T160552Z
UID:509-1645027200-1645032600@www.sccurlingclub.ca
SUMMARY:Success
DESCRIPTION:
URL:https://www.sccurlingclub.ca/event/success-2/
END:VEVENT
BEGIN:VEVENT
DTSTART;TZID=America/New_York:20220216T190000
DTEND;TZID=America/New_York:20220216T190000
DTSTAMP:20260422T175542
CREATED:20211208T172212Z
LAST-MODIFIED:20220201T161044Z
UID:428-1645038000-1645038000@www.sccurlingclub.ca
SUMMARY:Open League
DESCRIPTION:
URL:https://www.sccurlingclub.ca/event/tuesday-open-league/
LOCATION:Swift Current Curling Club
END:VEVENT
BEGIN:VEVENT
DTSTART;TZID=America/New_York:20220217T130000
DTEND;TZID=America/New_York:20220217T150000
DTSTAMP:20260422T175542
CREATED:20211208T161752Z
LAST-MODIFIED:20220201T162340Z
UID:400-1645102800-1645110000@www.sccurlingclub.ca
SUMMARY:Afternoon League
DESCRIPTION:
URL:https://www.sccurlingclub.ca/event/thursday-afternoon-league/
LOCATION:Swift Current Curling Club
END:VEVENT
BEGIN:VEVENT
DTSTART;TZID=America/New_York:20220217T160000
DTEND;TZID=America/New_York:20220217T173000
DTSTAMP:20260422T175542
CREATED:20211209T002403Z
LAST-MODIFIED:20220201T162715Z
UID:441-1645113600-1645119000@www.sccurlingclub.ca
SUMMARY:Schools
DESCRIPTION:
URL:https://www.sccurlingclub.ca/event/schools-3/
LOCATION:Swift Current Curling Club
END:VEVENT
BEGIN:VEVENT
DTSTART;TZID=America/New_York:20220217T190000
DTEND;TZID=America/New_York:20220217T190000
DTSTAMP:20260422T175542
CREATED:20211209T003957Z
LAST-MODIFIED:20220201T181138Z
UID:465-1645124400-1645124400@www.sccurlingclub.ca
SUMMARY:Super League
DESCRIPTION:
URL:https://www.sccurlingclub.ca/event/thursday-super-league-2/
LOCATION:Swift Current Curling Club
END:VEVENT
BEGIN:VEVENT
DTSTART;TZID=America/New_York:20220218T170000
DTEND;TZID=America/New_York:20220218T220000
DTSTAMP:20260422T175542
CREATED:20220201T181331Z
LAST-MODIFIED:20220201T181405Z
UID:644-1645203600-1645221600@www.sccurlingclub.ca
SUMMARY:Battle of the Southwest
DESCRIPTION:
URL:https://www.sccurlingclub.ca/event/battle-of-the-southwest/
LOCATION:Swift Current Curling Club
END:VEVENT
BEGIN:VEVENT
DTSTART;TZID=America/New_York:20220219T090000
DTEND;TZID=America/New_York:20220219T210000
DTSTAMP:20260422T175542
CREATED:20220201T181714Z
LAST-MODIFIED:20220201T181715Z
UID:646-1645261200-1645304400@www.sccurlingclub.ca
SUMMARY:Stick Bonspiel
DESCRIPTION:
URL:https://www.sccurlingclub.ca/event/stick-bonspiel/
LOCATION:Swift Current Curling Club
END:VEVENT
BEGIN:VEVENT
DTSTART;TZID=America/New_York:20220220T140000
DTEND;TZID=America/New_York:20220220T150000
DTSTAMP:20260422T175542
CREATED:20211209T003243Z
LAST-MODIFIED:20220201T150838Z
UID:447-1645365600-1645369200@www.sccurlingclub.ca
SUMMARY:Junior Curling
DESCRIPTION:
URL:https://www.sccurlingclub.ca/event/sunday-junior-curling-program/
LOCATION:Swift Current Curling Club
END:VEVENT
BEGIN:VEVENT
DTSTART;TZID=America/Regina:20220221T130000
DTEND;TZID=America/Regina:20220221T130000
DTSTAMP:20260422T175542
CREATED:20211208T171232Z
LAST-MODIFIED:20220201T151758Z
UID:420-1645448400-1645448400@www.sccurlingclub.ca
SUMMARY:Afternoon League
DESCRIPTION:
URL:https://www.sccurlingclub.ca/event/monday-afternoon-league-2/
LOCATION:Swift Current Curling Club
END:VEVENT
BEGIN:VEVENT
DTSTART;TZID=America/New_York:20220222T160000
DTEND;TZID=America/New_York:20220222T173000
DTSTAMP:20260422T175542
CREATED:20211216T153239Z
LAST-MODIFIED:20220201T151903Z
UID:481-1645545600-1645551000@www.sccurlingclub.ca
SUMMARY:High School
DESCRIPTION:
URL:https://www.sccurlingclub.ca/event/high-school-4/
LOCATION:Swift Current Curling Club
END:VEVENT
BEGIN:VEVENT
DTSTART;TZID=America/New_York:20220222T190000
DTEND;TZID=America/New_York:20220222T190000
DTSTAMP:20260422T175542
CREATED:20211216T153601Z
LAST-MODIFIED:20220201T155848Z
UID:483-1645556400-1645556400@www.sccurlingclub.ca
SUMMARY:Men's League
DESCRIPTION:
URL:https://www.sccurlingclub.ca/event/mens-league/
END:VEVENT
BEGIN:VEVENT
DTSTART;TZID=America/New_York:20220223T130000
DTEND;TZID=America/New_York:20220223T130000
DTSTAMP:20260422T175542
CREATED:20220201T161315Z
LAST-MODIFIED:20220201T161315Z
UID:635-1645621200-1645621200@www.sccurlingclub.ca
SUMMARY:Family Fun Day
DESCRIPTION:
URL:https://www.sccurlingclub.ca/event/family-fun-day/
LOCATION:Swift Current Curling Club
END:VEVENT
END:VCALENDAR