BEGIN:VCALENDAR
VERSION:2.0
PRODID:-//Swift Current Curling Club - ECPv6.15.20//NONSGML v1.0//EN
CALSCALE:GREGORIAN
METHOD:PUBLISH
X-ORIGINAL-URL:https://www.sccurlingclub.ca
X-WR-CALDESC:Events for Swift Current Curling Club
REFRESH-INTERVAL;VALUE=DURATION:PT1H
X-Robots-Tag:noindex
X-PUBLISHED-TTL:PT1H
BEGIN:VTIMEZONE
TZID:America/New_York
BEGIN:DAYLIGHT
TZOFFSETFROM:-0500
TZOFFSETTO:-0400
TZNAME:EDT
DTSTART:19690427T070000
END:DAYLIGHT
BEGIN:STANDARD
TZOFFSETFROM:-0400
TZOFFSETTO:-0500
TZNAME:EST
DTSTART:19691026T060000
END:STANDARD
BEGIN:DAYLIGHT
TZOFFSETFROM:-0500
TZOFFSETTO:-0400
TZNAME:EDT
DTSTART:19700426T070000
END:DAYLIGHT
BEGIN:STANDARD
TZOFFSETFROM:-0400
TZOFFSETTO:-0500
TZNAME:EST
DTSTART:19701025T060000
END:STANDARD
BEGIN:DAYLIGHT
TZOFFSETFROM:-0500
TZOFFSETTO:-0400
TZNAME:EDT
DTSTART:19710425T070000
END:DAYLIGHT
BEGIN:STANDARD
TZOFFSETFROM:-0400
TZOFFSETTO:-0500
TZNAME:EST
DTSTART:19711031T060000
END:STANDARD
BEGIN:DAYLIGHT
TZOFFSETFROM:-0500
TZOFFSETTO:-0400
TZNAME:EDT
DTSTART:19720430T070000
END:DAYLIGHT
BEGIN:STANDARD
TZOFFSETFROM:-0400
TZOFFSETTO:-0500
TZNAME:EST
DTSTART:19721029T060000
END:STANDARD
BEGIN:DAYLIGHT
TZOFFSETFROM:-0500
TZOFFSETTO:-0400
TZNAME:EDT
DTSTART:19730429T070000
END:DAYLIGHT
BEGIN:STANDARD
TZOFFSETFROM:-0400
TZOFFSETTO:-0500
TZNAME:EST
DTSTART:19731028T060000
END:STANDARD
BEGIN:DAYLIGHT
TZOFFSETFROM:-0500
TZOFFSETTO:-0400
TZNAME:EDT
DTSTART:19740106T070000
END:DAYLIGHT
BEGIN:STANDARD
TZOFFSETFROM:-0400
TZOFFSETTO:-0500
TZNAME:EST
DTSTART:19741027T060000
END:STANDARD
BEGIN:DAYLIGHT
TZOFFSETFROM:-0500
TZOFFSETTO:-0400
TZNAME:EDT
DTSTART:19750223T070000
END:DAYLIGHT
BEGIN:STANDARD
TZOFFSETFROM:-0400
TZOFFSETTO:-0500
TZNAME:EST
DTSTART:19751026T060000
END:STANDARD
BEGIN:DAYLIGHT
TZOFFSETFROM:-0500
TZOFFSETTO:-0400
TZNAME:EDT
DTSTART:19760425T070000
END:DAYLIGHT
BEGIN:STANDARD
TZOFFSETFROM:-0400
TZOFFSETTO:-0500
TZNAME:EST
DTSTART:19761031T060000
END:STANDARD
BEGIN:DAYLIGHT
TZOFFSETFROM:-0500
TZOFFSETTO:-0400
TZNAME:EDT
DTSTART:19770424T070000
END:DAYLIGHT
BEGIN:STANDARD
TZOFFSETFROM:-0400
TZOFFSETTO:-0500
TZNAME:EST
DTSTART:19771030T060000
END:STANDARD
BEGIN:DAYLIGHT
TZOFFSETFROM:-0500
TZOFFSETTO:-0400
TZNAME:EDT
DTSTART:19780430T070000
END:DAYLIGHT
BEGIN:STANDARD
TZOFFSETFROM:-0400
TZOFFSETTO:-0500
TZNAME:EST
DTSTART:19781029T060000
END:STANDARD
BEGIN:DAYLIGHT
TZOFFSETFROM:-0500
TZOFFSETTO:-0400
TZNAME:EDT
DTSTART:19790429T070000
END:DAYLIGHT
BEGIN:STANDARD
TZOFFSETFROM:-0400
TZOFFSETTO:-0500
TZNAME:EST
DTSTART:19791028T060000
END:STANDARD
BEGIN:DAYLIGHT
TZOFFSETFROM:-0500
TZOFFSETTO:-0400
TZNAME:EDT
DTSTART:19800427T070000
END:DAYLIGHT
BEGIN:STANDARD
TZOFFSETFROM:-0400
TZOFFSETTO:-0500
TZNAME:EST
DTSTART:19801026T060000
END:STANDARD
BEGIN:DAYLIGHT
TZOFFSETFROM:-0500
TZOFFSETTO:-0400
TZNAME:EDT
DTSTART:19810426T070000
END:DAYLIGHT
BEGIN:STANDARD
TZOFFSETFROM:-0400
TZOFFSETTO:-0500
TZNAME:EST
DTSTART:19811025T060000
END:STANDARD
BEGIN:DAYLIGHT
TZOFFSETFROM:-0500
TZOFFSETTO:-0400
TZNAME:EDT
DTSTART:19820425T070000
END:DAYLIGHT
BEGIN:STANDARD
TZOFFSETFROM:-0400
TZOFFSETTO:-0500
TZNAME:EST
DTSTART:19821031T060000
END:STANDARD
BEGIN:DAYLIGHT
TZOFFSETFROM:-0500
TZOFFSETTO:-0400
TZNAME:EDT
DTSTART:19830424T070000
END:DAYLIGHT
BEGIN:STANDARD
TZOFFSETFROM:-0400
TZOFFSETTO:-0500
TZNAME:EST
DTSTART:19831030T060000
END:STANDARD
BEGIN:DAYLIGHT
TZOFFSETFROM:-0500
TZOFFSETTO:-0400
TZNAME:EDT
DTSTART:19840429T070000
END:DAYLIGHT
BEGIN:STANDARD
TZOFFSETFROM:-0400
TZOFFSETTO:-0500
TZNAME:EST
DTSTART:19841028T060000
END:STANDARD
BEGIN:DAYLIGHT
TZOFFSETFROM:-0500
TZOFFSETTO:-0400
TZNAME:EDT
DTSTART:19850428T070000
END:DAYLIGHT
BEGIN:STANDARD
TZOFFSETFROM:-0400
TZOFFSETTO:-0500
TZNAME:EST
DTSTART:19851027T060000
END:STANDARD
BEGIN:DAYLIGHT
TZOFFSETFROM:-0500
TZOFFSETTO:-0400
TZNAME:EDT
DTSTART:19860427T070000
END:DAYLIGHT
BEGIN:STANDARD
TZOFFSETFROM:-0400
TZOFFSETTO:-0500
TZNAME:EST
DTSTART:19861026T060000
END:STANDARD
BEGIN:DAYLIGHT
TZOFFSETFROM:-0500
TZOFFSETTO:-0400
TZNAME:EDT
DTSTART:19870405T070000
END:DAYLIGHT
BEGIN:STANDARD
TZOFFSETFROM:-0400
TZOFFSETTO:-0500
TZNAME:EST
DTSTART:19871025T060000
END:STANDARD
BEGIN:DAYLIGHT
TZOFFSETFROM:-0500
TZOFFSETTO:-0400
TZNAME:EDT
DTSTART:19880403T070000
END:DAYLIGHT
BEGIN:STANDARD
TZOFFSETFROM:-0400
TZOFFSETTO:-0500
TZNAME:EST
DTSTART:19881030T060000
END:STANDARD
BEGIN:DAYLIGHT
TZOFFSETFROM:-0500
TZOFFSETTO:-0400
TZNAME:EDT
DTSTART:19890402T070000
END:DAYLIGHT
BEGIN:STANDARD
TZOFFSETFROM:-0400
TZOFFSETTO:-0500
TZNAME:EST
DTSTART:19891029T060000
END:STANDARD
BEGIN:DAYLIGHT
TZOFFSETFROM:-0500
TZOFFSETTO:-0400
TZNAME:EDT
DTSTART:19900401T070000
END:DAYLIGHT
BEGIN:STANDARD
TZOFFSETFROM:-0400
TZOFFSETTO:-0500
TZNAME:EST
DTSTART:19901028T060000
END:STANDARD
BEGIN:DAYLIGHT
TZOFFSETFROM:-0500
TZOFFSETTO:-0400
TZNAME:EDT
DTSTART:19910407T070000
END:DAYLIGHT
BEGIN:STANDARD
TZOFFSETFROM:-0400
TZOFFSETTO:-0500
TZNAME:EST
DTSTART:19911027T060000
END:STANDARD
BEGIN:DAYLIGHT
TZOFFSETFROM:-0500
TZOFFSETTO:-0400
TZNAME:EDT
DTSTART:19920405T070000
END:DAYLIGHT
BEGIN:STANDARD
TZOFFSETFROM:-0400
TZOFFSETTO:-0500
TZNAME:EST
DTSTART:19921025T060000
END:STANDARD
BEGIN:DAYLIGHT
TZOFFSETFROM:-0500
TZOFFSETTO:-0400
TZNAME:EDT
DTSTART:19930404T070000
END:DAYLIGHT
BEGIN:STANDARD
TZOFFSETFROM:-0400
TZOFFSETTO:-0500
TZNAME:EST
DTSTART:19931031T060000
END:STANDARD
BEGIN:DAYLIGHT
TZOFFSETFROM:-0500
TZOFFSETTO:-0400
TZNAME:EDT
DTSTART:19940403T070000
END:DAYLIGHT
BEGIN:STANDARD
TZOFFSETFROM:-0400
TZOFFSETTO:-0500
TZNAME:EST
DTSTART:19941030T060000
END:STANDARD
BEGIN:DAYLIGHT
TZOFFSETFROM:-0500
TZOFFSETTO:-0400
TZNAME:EDT
DTSTART:19950402T070000
END:DAYLIGHT
BEGIN:STANDARD
TZOFFSETFROM:-0400
TZOFFSETTO:-0500
TZNAME:EST
DTSTART:19951029T060000
END:STANDARD
BEGIN:DAYLIGHT
TZOFFSETFROM:-0500
TZOFFSETTO:-0400
TZNAME:EDT
DTSTART:19960407T070000
END:DAYLIGHT
BEGIN:STANDARD
TZOFFSETFROM:-0400
TZOFFSETTO:-0500
TZNAME:EST
DTSTART:19961027T060000
END:STANDARD
BEGIN:DAYLIGHT
TZOFFSETFROM:-0500
TZOFFSETTO:-0400
TZNAME:EDT
DTSTART:19970406T070000
END:DAYLIGHT
BEGIN:STANDARD
TZOFFSETFROM:-0400
TZOFFSETTO:-0500
TZNAME:EST
DTSTART:19971026T060000
END:STANDARD
BEGIN:DAYLIGHT
TZOFFSETFROM:-0500
TZOFFSETTO:-0400
TZNAME:EDT
DTSTART:19980405T070000
END:DAYLIGHT
BEGIN:STANDARD
TZOFFSETFROM:-0400
TZOFFSETTO:-0500
TZNAME:EST
DTSTART:19981025T060000
END:STANDARD
BEGIN:DAYLIGHT
TZOFFSETFROM:-0500
TZOFFSETTO:-0400
TZNAME:EDT
DTSTART:19990404T070000
END:DAYLIGHT
BEGIN:STANDARD
TZOFFSETFROM:-0400
TZOFFSETTO:-0500
TZNAME:EST
DTSTART:19991031T060000
END:STANDARD
BEGIN:DAYLIGHT
TZOFFSETFROM:-0500
TZOFFSETTO:-0400
TZNAME:EDT
DTSTART:20000402T070000
END:DAYLIGHT
BEGIN:STANDARD
TZOFFSETFROM:-0400
TZOFFSETTO:-0500
TZNAME:EST
DTSTART:20001029T060000
END:STANDARD
BEGIN:DAYLIGHT
TZOFFSETFROM:-0500
TZOFFSETTO:-0400
TZNAME:EDT
DTSTART:20010401T070000
END:DAYLIGHT
BEGIN:STANDARD
TZOFFSETFROM:-0400
TZOFFSETTO:-0500
TZNAME:EST
DTSTART:20011028T060000
END:STANDARD
BEGIN:DAYLIGHT
TZOFFSETFROM:-0500
TZOFFSETTO:-0400
TZNAME:EDT
DTSTART:20020407T070000
END:DAYLIGHT
BEGIN:STANDARD
TZOFFSETFROM:-0400
TZOFFSETTO:-0500
TZNAME:EST
DTSTART:20021027T060000
END:STANDARD
BEGIN:DAYLIGHT
TZOFFSETFROM:-0500
TZOFFSETTO:-0400
TZNAME:EDT
DTSTART:20030406T070000
END:DAYLIGHT
BEGIN:STANDARD
TZOFFSETFROM:-0400
TZOFFSETTO:-0500
TZNAME:EST
DTSTART:20031026T060000
END:STANDARD
BEGIN:DAYLIGHT
TZOFFSETFROM:-0500
TZOFFSETTO:-0400
TZNAME:EDT
DTSTART:20040404T070000
END:DAYLIGHT
BEGIN:STANDARD
TZOFFSETFROM:-0400
TZOFFSETTO:-0500
TZNAME:EST
DTSTART:20041031T060000
END:STANDARD
BEGIN:DAYLIGHT
TZOFFSETFROM:-0500
TZOFFSETTO:-0400
TZNAME:EDT
DTSTART:20050403T070000
END:DAYLIGHT
BEGIN:STANDARD
TZOFFSETFROM:-0400
TZOFFSETTO:-0500
TZNAME:EST
DTSTART:20051030T060000
END:STANDARD
BEGIN:DAYLIGHT
TZOFFSETFROM:-0500
TZOFFSETTO:-0400
TZNAME:EDT
DTSTART:20060402T070000
END:DAYLIGHT
BEGIN:STANDARD
TZOFFSETFROM:-0400
TZOFFSETTO:-0500
TZNAME:EST
DTSTART:20061029T060000
END:STANDARD
BEGIN:DAYLIGHT
TZOFFSETFROM:-0500
TZOFFSETTO:-0400
TZNAME:EDT
DTSTART:20070311T070000
END:DAYLIGHT
BEGIN:STANDARD
TZOFFSETFROM:-0400
TZOFFSETTO:-0500
TZNAME:EST
DTSTART:20071104T060000
END:STANDARD
BEGIN:DAYLIGHT
TZOFFSETFROM:-0500
TZOFFSETTO:-0400
TZNAME:EDT
DTSTART:20080309T070000
END:DAYLIGHT
BEGIN:STANDARD
TZOFFSETFROM:-0400
TZOFFSETTO:-0500
TZNAME:EST
DTSTART:20081102T060000
END:STANDARD
BEGIN:DAYLIGHT
TZOFFSETFROM:-0500
TZOFFSETTO:-0400
TZNAME:EDT
DTSTART:20090308T070000
END:DAYLIGHT
BEGIN:STANDARD
TZOFFSETFROM:-0400
TZOFFSETTO:-0500
TZNAME:EST
DTSTART:20091101T060000
END:STANDARD
BEGIN:DAYLIGHT
TZOFFSETFROM:-0500
TZOFFSETTO:-0400
TZNAME:EDT
DTSTART:20100314T070000
END:DAYLIGHT
BEGIN:STANDARD
TZOFFSETFROM:-0400
TZOFFSETTO:-0500
TZNAME:EST
DTSTART:20101107T060000
END:STANDARD
BEGIN:DAYLIGHT
TZOFFSETFROM:-0500
TZOFFSETTO:-0400
TZNAME:EDT
DTSTART:20110313T070000
END:DAYLIGHT
BEGIN:STANDARD
TZOFFSETFROM:-0400
TZOFFSETTO:-0500
TZNAME:EST
DTSTART:20111106T060000
END:STANDARD
BEGIN:DAYLIGHT
TZOFFSETFROM:-0500
TZOFFSETTO:-0400
TZNAME:EDT
DTSTART:20120311T070000
END:DAYLIGHT
BEGIN:STANDARD
TZOFFSETFROM:-0400
TZOFFSETTO:-0500
TZNAME:EST
DTSTART:20121104T060000
END:STANDARD
BEGIN:DAYLIGHT
TZOFFSETFROM:-0500
TZOFFSETTO:-0400
TZNAME:EDT
DTSTART:20130310T070000
END:DAYLIGHT
BEGIN:STANDARD
TZOFFSETFROM:-0400
TZOFFSETTO:-0500
TZNAME:EST
DTSTART:20131103T060000
END:STANDARD
BEGIN:DAYLIGHT
TZOFFSETFROM:-0500
TZOFFSETTO:-0400
TZNAME:EDT
DTSTART:20140309T070000
END:DAYLIGHT
BEGIN:STANDARD
TZOFFSETFROM:-0400
TZOFFSETTO:-0500
TZNAME:EST
DTSTART:20141102T060000
END:STANDARD
BEGIN:DAYLIGHT
TZOFFSETFROM:-0500
TZOFFSETTO:-0400
TZNAME:EDT
DTSTART:20150308T070000
END:DAYLIGHT
BEGIN:STANDARD
TZOFFSETFROM:-0400
TZOFFSETTO:-0500
TZNAME:EST
DTSTART:20151101T060000
END:STANDARD
BEGIN:DAYLIGHT
TZOFFSETFROM:-0500
TZOFFSETTO:-0400
TZNAME:EDT
DTSTART:20160313T070000
END:DAYLIGHT
BEGIN:STANDARD
TZOFFSETFROM:-0400
TZOFFSETTO:-0500
TZNAME:EST
DTSTART:20161106T060000
END:STANDARD
BEGIN:DAYLIGHT
TZOFFSETFROM:-0500
TZOFFSETTO:-0400
TZNAME:EDT
DTSTART:20170312T070000
END:DAYLIGHT
BEGIN:STANDARD
TZOFFSETFROM:-0400
TZOFFSETTO:-0500
TZNAME:EST
DTSTART:20171105T060000
END:STANDARD
BEGIN:DAYLIGHT
TZOFFSETFROM:-0500
TZOFFSETTO:-0400
TZNAME:EDT
DTSTART:20180311T070000
END:DAYLIGHT
BEGIN:STANDARD
TZOFFSETFROM:-0400
TZOFFSETTO:-0500
TZNAME:EST
DTSTART:20181104T060000
END:STANDARD
BEGIN:DAYLIGHT
TZOFFSETFROM:-0500
TZOFFSETTO:-0400
TZNAME:EDT
DTSTART:20190310T070000
END:DAYLIGHT
BEGIN:STANDARD
TZOFFSETFROM:-0400
TZOFFSETTO:-0500
TZNAME:EST
DTSTART:20191103T060000
END:STANDARD
BEGIN:DAYLIGHT
TZOFFSETFROM:-0500
TZOFFSETTO:-0400
TZNAME:EDT
DTSTART:20200308T070000
END:DAYLIGHT
BEGIN:STANDARD
TZOFFSETFROM:-0400
TZOFFSETTO:-0500
TZNAME:EST
DTSTART:20201101T060000
END:STANDARD
BEGIN:DAYLIGHT
TZOFFSETFROM:-0500
TZOFFSETTO:-0400
TZNAME:EDT
DTSTART:20210314T070000
END:DAYLIGHT
BEGIN:STANDARD
TZOFFSETFROM:-0400
TZOFFSETTO:-0500
TZNAME:EST
DTSTART:20211107T060000
END:STANDARD
BEGIN:DAYLIGHT
TZOFFSETFROM:-0500
TZOFFSETTO:-0400
TZNAME:EDT
DTSTART:20220313T070000
END:DAYLIGHT
BEGIN:STANDARD
TZOFFSETFROM:-0400
TZOFFSETTO:-0500
TZNAME:EST
DTSTART:20221106T060000
END:STANDARD
BEGIN:DAYLIGHT
TZOFFSETFROM:-0500
TZOFFSETTO:-0400
TZNAME:EDT
DTSTART:20230312T070000
END:DAYLIGHT
BEGIN:STANDARD
TZOFFSETFROM:-0400
TZOFFSETTO:-0500
TZNAME:EST
DTSTART:20231105T060000
END:STANDARD
BEGIN:DAYLIGHT
TZOFFSETFROM:-0500
TZOFFSETTO:-0400
TZNAME:EDT
DTSTART:20240310T070000
END:DAYLIGHT
BEGIN:STANDARD
TZOFFSETFROM:-0400
TZOFFSETTO:-0500
TZNAME:EST
DTSTART:20241103T060000
END:STANDARD
BEGIN:DAYLIGHT
TZOFFSETFROM:-0500
TZOFFSETTO:-0400
TZNAME:EDT
DTSTART:20250309T070000
END:DAYLIGHT
BEGIN:STANDARD
TZOFFSETFROM:-0400
TZOFFSETTO:-0500
TZNAME:EST
DTSTART:20251102T060000
END:STANDARD
BEGIN:DAYLIGHT
TZOFFSETFROM:-0500
TZOFFSETTO:-0400
TZNAME:EDT
DTSTART:20260308T070000
END:DAYLIGHT
BEGIN:STANDARD
TZOFFSETFROM:-0400
TZOFFSETTO:-0500
TZNAME:EST
DTSTART:20261101T060000
END:STANDARD
BEGIN:DAYLIGHT
TZOFFSETFROM:-0500
TZOFFSETTO:-0400
TZNAME:EDT
DTSTART:20270314T070000
END:DAYLIGHT
BEGIN:STANDARD
TZOFFSETFROM:-0400
TZOFFSETTO:-0500
TZNAME:EST
DTSTART:20271107T060000
END:STANDARD
END:VTIMEZONE
BEGIN:VTIMEZONE
TZID:America/Regina
BEGIN:STANDARD
TZOFFSETFROM:-0600
TZOFFSETTO:-0600
TZNAME:CST
DTSTART:20210101T000000
END:STANDARD
END:VTIMEZONE
BEGIN:VEVENT
DTSTART;TZID=America/New_York:20260422T175721
DTEND;TZID=America/New_York:20260331T120000
DTSTAMP:20260422T175721
CREATED:20260205T175010Z
LAST-MODIFIED:20260205T175010Z
UID:2919-0-1774958400@www.sccurlingclub.ca
SUMMARY:Ice Removal
DESCRIPTION:
URL:https://www.sccurlingclub.ca/event/ice-removal-2/
LOCATION:Swift Current Curling Club
END:VEVENT
BEGIN:VEVENT
DTSTART;VALUE=DATE:20220316
DTEND;VALUE=DATE:20220321
DTSTAMP:20260422T175721
CREATED:20211105T204159Z
LAST-MODIFIED:20220310T205434Z
UID:314-1647388800-1647820799@www.sccurlingclub.ca
SUMMARY:Saskatchewan Mixed Provincial Championships
DESCRIPTION:
URL:https://www.sccurlingclub.ca/event/saskatchewan-mixed-provincial-championships/
END:VEVENT
BEGIN:VEVENT
DTSTART;VALUE=DATE:20220325
DTEND;VALUE=DATE:20220328
DTSTAMP:20260422T175721
CREATED:20211105T204217Z
LAST-MODIFIED:20220202T120733Z
UID:316-1648166400-1648425599@www.sccurlingclub.ca
SUMMARY:Swift Current Annual Ladies Bonspiel
DESCRIPTION:
URL:https://www.sccurlingclub.ca/event/swift-current-annual-ladies-bonspiel/
ATTACH;FMTTYPE=image/jpeg:https://www.sccurlingclub.ca/wp-content/uploads/2021/11/Annual-Ladies-Bonspiel_2022.jpg
END:VEVENT
BEGIN:VEVENT
DTSTART;TZID=America/New_York:20220512T190000
DTEND;TZID=America/New_York:20220512T200000
DTSTAMP:20260422T175721
CREATED:20220407T165712Z
LAST-MODIFIED:20220408T173954Z
UID:670-1652382000-1652385600@www.sccurlingclub.ca
SUMMARY:Annual General Meeting
DESCRIPTION:Meeting will be help in person upstairs in the boardroom at the iPlex \nAlso available virtually via Zoom. (Contact the curling club for the link) \nAGM Ad
URL:https://www.sccurlingclub.ca/event/annual-general-meeting/
END:VEVENT
BEGIN:VEVENT
DTSTART;TZID=America/New_York:20220920T000000
DTEND;TZID=America/New_York:20220920T000000
DTSTAMP:20260422T175721
CREATED:20220920T194010Z
LAST-MODIFIED:20220920T194010Z
UID:424-1663632000-1663632000@www.sccurlingclub.ca
SUMMARY:Christmas Party Rental
DESCRIPTION:
URL:https://www.sccurlingclub.ca/event/christmas-party-rental-2/
END:VEVENT
BEGIN:VEVENT
DTSTART;VALUE=DATE:20220920
DTEND;VALUE=DATE:20220921
DTSTAMP:20260422T175721
CREATED:20220920T194012Z
LAST-MODIFIED:20220920T194012Z
UID:669-1663632000-1663718399@www.sccurlingclub.ca
SUMMARY:Curling Club
DESCRIPTION:
URL:https://www.sccurlingclub.ca/event/curling-club/
END:VEVENT
BEGIN:VEVENT
DTSTART;VALUE=DATE:20220920
DTEND;VALUE=DATE:20220921
DTSTAMP:20260422T175721
CREATED:20220920T194020Z
LAST-MODIFIED:20220920T194020Z
UID:667-1663632000-1663718399@www.sccurlingclub.ca
SUMMARY:hvjv
DESCRIPTION:
URL:https://www.sccurlingclub.ca/event/hvjv/
END:VEVENT
BEGIN:VEVENT
DTSTART;VALUE=DATE:20221001
DTEND;VALUE=DATE:20221002
DTSTAMP:20260422T175721
CREATED:20220920T214240Z
LAST-MODIFIED:20220920T222140Z
UID:714-1664582400-1664668799@www.sccurlingclub.ca
SUMMARY:Ice Installation
DESCRIPTION:
URL:https://www.sccurlingclub.ca/event/ice-installation/
END:VEVENT
BEGIN:VEVENT
DTSTART;VALUE=DATE:20221002
DTEND;VALUE=DATE:20221003
DTSTAMP:20260422T175721
CREATED:20220920T214240Z
LAST-MODIFIED:20220920T222140Z
UID:715-1664668800-1664755199@www.sccurlingclub.ca
SUMMARY:Ice Installation
DESCRIPTION:
URL:https://www.sccurlingclub.ca/event/ice-installation-2/
END:VEVENT
BEGIN:VEVENT
DTSTART;VALUE=DATE:20221003
DTEND;VALUE=DATE:20221004
DTSTAMP:20260422T175721
CREATED:20220920T214241Z
LAST-MODIFIED:20220920T222140Z
UID:716-1664755200-1664841599@www.sccurlingclub.ca
SUMMARY:Ice Installation
DESCRIPTION:
URL:https://www.sccurlingclub.ca/event/ice-installation-3/
END:VEVENT
BEGIN:VEVENT
DTSTART;VALUE=DATE:20221003
DTEND;VALUE=DATE:20221004
DTSTAMP:20260422T175721
CREATED:20220920T214242Z
LAST-MODIFIED:20220920T222140Z
UID:717-1664755200-1664841599@www.sccurlingclub.ca
SUMMARY:Lounge Set Up
DESCRIPTION:
URL:https://www.sccurlingclub.ca/event/lounge-set-up-2/
END:VEVENT
BEGIN:VEVENT
DTSTART;VALUE=DATE:20221004
DTEND;VALUE=DATE:20221005
DTSTAMP:20260422T175721
CREATED:20220920T214242Z
LAST-MODIFIED:20220920T222140Z
UID:718-1664841600-1664927999@www.sccurlingclub.ca
SUMMARY:Ice Installation
DESCRIPTION:
URL:https://www.sccurlingclub.ca/event/ice-installation-4/
END:VEVENT
BEGIN:VEVENT
DTSTART;VALUE=DATE:20221004
DTEND;VALUE=DATE:20221005
DTSTAMP:20260422T175721
CREATED:20220920T214244Z
LAST-MODIFIED:20220920T222142Z
UID:719-1664841600-1664927999@www.sccurlingclub.ca
SUMMARY:Lounge Set Up
DESCRIPTION:
URL:https://www.sccurlingclub.ca/event/lounge-set-up-3/
END:VEVENT
BEGIN:VEVENT
DTSTART;VALUE=DATE:20221005
DTEND;VALUE=DATE:20221006
DTSTAMP:20260422T175721
CREATED:20220920T214245Z
LAST-MODIFIED:20220920T222142Z
UID:720-1664928000-1665014399@www.sccurlingclub.ca
SUMMARY:Ice Installation
DESCRIPTION:
URL:https://www.sccurlingclub.ca/event/ice-installation-5/
END:VEVENT
BEGIN:VEVENT
DTSTART;VALUE=DATE:20221005
DTEND;VALUE=DATE:20221006
DTSTAMP:20260422T175721
CREATED:20220920T214245Z
LAST-MODIFIED:20220920T222143Z
UID:721-1664928000-1665014399@www.sccurlingclub.ca
SUMMARY:Lounge Set Up
DESCRIPTION:
URL:https://www.sccurlingclub.ca/event/lounge-set-up-4/
END:VEVENT
BEGIN:VEVENT
DTSTART;TZID=America/Regina:20221006T190000
DTEND;TZID=America/Regina:20221006T190000
DTSTAMP:20260422T175721
CREATED:20220920T215429Z
LAST-MODIFIED:20220920T222143Z
UID:802-1665082800-1665082800@www.sccurlingclub.ca
SUMMARY:Super League (6)
DESCRIPTION:
URL:https://www.sccurlingclub.ca/event/super-league-6-3/
END:VEVENT
BEGIN:VEVENT
DTSTART;VALUE=DATE:20221007
DTEND;VALUE=DATE:20221008
DTSTAMP:20260422T175721
CREATED:20220920T214246Z
LAST-MODIFIED:20220920T222143Z
UID:723-1665100800-1665187199@www.sccurlingclub.ca
SUMMARY:S3 Group SK Tour Series Event
DESCRIPTION:
URL:https://www.sccurlingclub.ca/event/s3-group-sk-tour-series-event/
END:VEVENT
BEGIN:VEVENT
DTSTART;VALUE=DATE:20221008
DTEND;VALUE=DATE:20221009
DTSTAMP:20260422T175721
CREATED:20220920T214300Z
LAST-MODIFIED:20220920T222158Z
UID:724-1665187200-1665273599@www.sccurlingclub.ca
SUMMARY:S3 Group SK Tour Series Event
DESCRIPTION:
URL:https://www.sccurlingclub.ca/event/s3-group-sk-tour-series-event-2/
END:VEVENT
BEGIN:VEVENT
DTSTART;VALUE=DATE:20221009
DTEND;VALUE=DATE:20221010
DTSTAMP:20260422T175721
CREATED:20220920T214300Z
LAST-MODIFIED:20220920T222158Z
UID:725-1665273600-1665359999@www.sccurlingclub.ca
SUMMARY:S3 Group SK Tour Series Event
DESCRIPTION:
URL:https://www.sccurlingclub.ca/event/s3-group-sk-tour-series-event-3/
END:VEVENT
BEGIN:VEVENT
DTSTART;VALUE=DATE:20221010
DTEND;VALUE=DATE:20221011
DTSTAMP:20260422T175721
CREATED:20220920T214301Z
LAST-MODIFIED:20220920T222158Z
UID:726-1665360000-1665446399@www.sccurlingclub.ca
SUMMARY:S3 Group SK Tour Series Event
DESCRIPTION:
URL:https://www.sccurlingclub.ca/event/s3-group-sk-tour-series-event-4/
END:VEVENT
BEGIN:VEVENT
DTSTART;TZID=America/Regina:20221011T190000
DTEND;TZID=America/Regina:20221011T190000
DTSTAMP:20260422T175721
CREATED:20220920T215444Z
LAST-MODIFIED:20220920T222158Z
UID:803-1665514800-1665514800@www.sccurlingclub.ca
SUMMARY:Men's League (6)
DESCRIPTION:
URL:https://www.sccurlingclub.ca/event/mens-league-6-2/
END:VEVENT
BEGIN:VEVENT
DTSTART;TZID=America/Regina:20221012T153000
DTEND;TZID=America/Regina:20221012T153000
DTSTAMP:20260422T175721
CREATED:20220920T215456Z
LAST-MODIFIED:20220920T222213Z
UID:805-1665588600-1665588600@www.sccurlingclub.ca
SUMMARY:Swift Sliders
DESCRIPTION:
URL:https://www.sccurlingclub.ca/event/swift-sliders-11/
END:VEVENT
BEGIN:VEVENT
DTSTART;TZID=America/Regina:20221012T180000
DTEND;TZID=America/Regina:20221012T180000
DTSTAMP:20260422T175721
CREATED:20220920T215444Z
LAST-MODIFIED:20220920T222159Z
UID:804-1665597600-1665597600@www.sccurlingclub.ca
SUMMARY:Open League (6)
DESCRIPTION:
URL:https://www.sccurlingclub.ca/event/open-league-6-4/
END:VEVENT
BEGIN:VEVENT
DTSTART;TZID=America/Regina:20221012T203000
DTEND;TZID=America/Regina:20221012T203000
DTSTAMP:20260422T175721
CREATED:20220920T215457Z
LAST-MODIFIED:20220920T222213Z
UID:806-1665606600-1665606600@www.sccurlingclub.ca
SUMMARY:RBC DRAW 1
DESCRIPTION:
URL:https://www.sccurlingclub.ca/event/rbc-draw-1-2/
END:VEVENT
BEGIN:VEVENT
DTSTART;VALUE=DATE:20221013
DTEND;VALUE=DATE:20221014
DTSTAMP:20260422T175721
CREATED:20220920T214502Z
LAST-MODIFIED:20220920T222214Z
UID:731-1665619200-1665705599@www.sccurlingclub.ca
SUMMARY:RBC Dominions Securities Showdown
DESCRIPTION:
URL:https://www.sccurlingclub.ca/event/rbc-dominions-securities-showdown/
END:VEVENT
BEGIN:VEVENT
DTSTART;VALUE=DATE:20221014
DTEND;VALUE=DATE:20221015
DTSTAMP:20260422T175721
CREATED:20220920T214502Z
LAST-MODIFIED:20220920T222214Z
UID:732-1665705600-1665791999@www.sccurlingclub.ca
SUMMARY:RBC Dominions Securities Showdown
DESCRIPTION:
URL:https://www.sccurlingclub.ca/event/rbc-dominions-securities-showdown-2/
END:VEVENT
BEGIN:VEVENT
DTSTART;VALUE=DATE:20221015
DTEND;VALUE=DATE:20221016
DTSTAMP:20260422T175721
CREATED:20220920T214503Z
LAST-MODIFIED:20220920T222214Z
UID:733-1665792000-1665878399@www.sccurlingclub.ca
SUMMARY:RBC Dominions Securities Showdown
DESCRIPTION:
URL:https://www.sccurlingclub.ca/event/rbc-dominions-securities-showdown-3/
END:VEVENT
BEGIN:VEVENT
DTSTART;VALUE=DATE:20221016
DTEND;VALUE=DATE:20221017
DTSTAMP:20260422T175721
CREATED:20220920T214516Z
LAST-MODIFIED:20220920T222228Z
UID:734-1665878400-1665964799@www.sccurlingclub.ca
SUMMARY:RBC Dominions Securities Showdown
DESCRIPTION:
URL:https://www.sccurlingclub.ca/event/rbc-dominions-securities-showdown-4/
END:VEVENT
BEGIN:VEVENT
DTSTART;TZID=America/Regina:20221017T130000
DTEND;TZID=America/Regina:20221017T130000
DTSTAMP:20260422T175721
CREATED:20220920T215536Z
LAST-MODIFIED:20220920T222228Z
UID:807-1666011600-1666011600@www.sccurlingclub.ca
SUMMARY:Afternoon League (6)
DESCRIPTION:
URL:https://www.sccurlingclub.ca/event/afternoon-league-6-5/
END:VEVENT
BEGIN:VEVENT
DTSTART;TZID=America/Regina:20221017T190000
DTEND;TZID=America/Regina:20221017T190000
DTSTAMP:20260422T175721
CREATED:20220920T215536Z
LAST-MODIFIED:20220920T222228Z
UID:808-1666033200-1666033200@www.sccurlingclub.ca
SUMMARY:BEER League (6)
DESCRIPTION:
URL:https://www.sccurlingclub.ca/event/beer-league-6-3/
END:VEVENT
END:VCALENDAR